BEGIN:VCALENDAR
VERSION:2.0
PRODID:-//Comité de Jumelage de Chauvigny - ECPv6.15.20//NONSGML v1.0//EN
CALSCALE:GREGORIAN
METHOD:PUBLISH
X-ORIGINAL-URL:https://jumelage-chauvigny.fr
X-WR-CALDESC:Évènements pour Comité de Jumelage de Chauvigny
REFRESH-INTERVAL;VALUE=DURATION:PT1H
X-Robots-Tag:noindex
X-PUBLISHED-TTL:PT1H
BEGIN:VTIMEZONE
TZID:Europe/Paris
BEGIN:DAYLIGHT
TZOFFSETFROM:+0100
TZOFFSETTO:+0200
TZNAME:CEST
DTSTART:20230326T010000
END:DAYLIGHT
BEGIN:STANDARD
TZOFFSETFROM:+0200
TZOFFSETTO:+0100
TZNAME:CET
DTSTART:20231029T010000
END:STANDARD
BEGIN:DAYLIGHT
TZOFFSETFROM:+0100
TZOFFSETTO:+0200
TZNAME:CEST
DTSTART:20240331T010000
END:DAYLIGHT
BEGIN:STANDARD
TZOFFSETFROM:+0200
TZOFFSETTO:+0100
TZNAME:CET
DTSTART:20241027T010000
END:STANDARD
BEGIN:DAYLIGHT
TZOFFSETFROM:+0100
TZOFFSETTO:+0200
TZNAME:CEST
DTSTART:20250330T010000
END:DAYLIGHT
BEGIN:STANDARD
TZOFFSETFROM:+0200
TZOFFSETTO:+0100
TZNAME:CET
DTSTART:20251026T010000
END:STANDARD
END:VTIMEZONE
BEGIN:VEVENT
DTSTART;TZID=Europe/Paris:20241120T203000
DTEND;TZID=Europe/Paris:20241120T213000
DTSTAMP:20260421T120404
CREATED:20241103T155419Z
LAST-MODIFIED:20241103T155419Z
UID:1485-1732134600-1732138200@jumelage-chauvigny.fr
SUMMARY:Trainée de Poudre
DESCRIPTION:Participation libre
URL:https://jumelage-chauvigny.fr/evenement/trainee-de-poudre/
LOCATION:MJC Jean VASCA\, 34\, rue de Chatellerault\, CHAUVIGNY\, 86300
ATTACH;FMTTYPE=image/jpeg:https://jumelage-chauvigny.fr/wp-content/uploads/2024/11/TRAINEE-DE-POUDRE.jpg
END:VEVENT
END:VCALENDAR